BEGIN:VCALENDAR
VERSION:2.0
PRODID:SchoolNow
CALSCALE:GREGORIAN
BEGIN:VEVENT
UID:0a7a91e6-c58c-11f0-919c-0a58a9feac02
DTSTAMP:20251120T022622Z
SUMMARY:CDD Board Meeting - Oct. 2025
LOCATION:the SpringHill Suites by Marriott Tampa Suncoast Parkway located a
 t 16615 Crosspointe Run\, Land O'Lakes\, FL 34648
URL;VALUE=URI:https://www.tworiverswestcdd.com/calendar/8804345/cdd-board-m
 eeting-oct-2025
DTSTART:20251021T150000Z
DTEND:20251021T160000Z
ATTACH;FILENAME=2025-10-21 TRW Agenda.pdf;FMTTYPE=application/pdf:https://c
 ampussuite-storage.s3.amazonaws.com/prod/1559293/cec01b72-ba63-11f0-b738-0
 a58a9feac02/3041801/1b411e2e-c5b8-11f0-82f4-0afff9ea838f/file/2025-10-21 T
 RW Agenda.pdf
END:VEVENT
END:VCALENDAR
