BEGIN:VCALENDAR
VERSION:2.0
PRODID:SchoolNow
CALSCALE:GREGORIAN
BEGIN:VEVENT
UID:28eb4d28-c58c-11f0-b5ca-0afff9ea838f
DTSTAMP:20251120T022638Z
SUMMARY:CDD Board Meeting - Nov. 2025
LOCATION:the SpringHill Suites by Marriott Tampa Suncoast Parkway located a
 t 16615 Crosspointe Run\, Land O'Lakes\, FL 34648
URL;VALUE=URI:https://www.tworiverswestcdd.com/calendar/8804346/cdd-board-m
 eeting-nov-2025
DTSTART:20251118T160000Z
DTEND:20251118T170000Z
ATTACH;FILENAME=2025-11-18 TRW Agenda.pdf;FMTTYPE=application/pdf:https://c
 ampussuite-storage.s3.amazonaws.com/prod/1559293/cec01b72-ba63-11f0-b738-0
 a58a9feac02/3041802/2ed7fb9c-c5b8-11f0-9426-0afff9ea838f/file/2025-11-18 T
 RW Agenda.pdf
END:VEVENT
END:VCALENDAR
