BEGIN:VCALENDAR
VERSION:2.0
PRODID:SchoolNow
CALSCALE:GREGORIAN
BEGIN:VEVENT
UID:30b24ffc-c58c-11f0-886e-0afff9ea838f
DTSTAMP:20260324T185743Z
SUMMARY:CDD Board Meeting - Dec. 2025
LOCATION:the SpringHill Suites by Marriott Tampa Suncoast Parkway located a
 t 16615 Crosspointe Run\, Land O'Lakes\, FL 34648
URL;VALUE=URI:https://www.tworiverswestcdd.com/calendar/8804347/cdd-board-m
 eeting-dec-2025
DTSTART:20251216T160000Z
DTEND:20251216T170000Z
ATTACH;FILENAME=2025-12-16 TRW Agenda.pdf;FMTTYPE=application/pdf:https://c
 ampussuite-storage.s3.amazonaws.com/prod/1559293/cec01b72-ba63-11f0-b738-0
 a58a9feac02/3083014/e6c7aed0-27b2-11f1-9b9f-0afff2938fcd/file/2025-12-16 T
 RW Agenda.pdf
END:VEVENT
END:VCALENDAR
