BEGIN:VCALENDAR
VERSION:2.0
PRODID:SchoolNow
CALSCALE:GREGORIAN
BEGIN:VEVENT
UID:63723bb4-c58c-11f0-a95f-0a58a9feac02
DTSTAMP:20260324T185803Z
SUMMARY:CDD Board Meeting - Jan. 2026
LOCATION:the SpringHill Suites by Marriott Tampa Suncoast Parkway located a
 t 16615 Crosspointe Run\, Land O'Lakes\, FL 34648
URL;VALUE=URI:https://www.tworiverswestcdd.com/calendar/8804348/cdd-board-m
 eeting-jan-2026
DTSTART:20260120T160000Z
DTEND:20260120T170000Z
ATTACH;FILENAME=2026-01-20 TRW Agenda.pdf;FMTTYPE=application/pdf:https://c
 ampussuite-storage.s3.amazonaws.com/prod/1559293/cec01b72-ba63-11f0-b738-0
 a58a9feac02/3083015/03cf8f34-27b3-11f1-bfda-0affd3f4938f/file/2026-01-20 T
 RW Agenda.pdf
END:VEVENT
END:VCALENDAR
