BEGIN:VCALENDAR
VERSION:2.0
PRODID:SchoolNow
CALSCALE:GREGORIAN
BEGIN:VEVENT
UID:6c8d3ed8-c58c-11f0-b34f-0afff9ea838f
DTSTAMP:20260324T185841Z
SUMMARY:CDD Board Meeting - Feb. 2026
LOCATION:the SpringHill Suites by Marriott Tampa Suncoast Parkway located a
 t 16615 Crosspointe Run\, Land O'Lakes\, FL 34648
URL;VALUE=URI:https://www.tworiverswestcdd.com/calendar/8804349/cdd-board-m
 eeting-feb-2026
DTSTART:20260217T160000Z
DTEND:20260217T170000Z
ATTACH;FILENAME=2026-02-17 TRW Agenda.pdf;FMTTYPE=application/pdf:https://c
 ampussuite-storage.s3.amazonaws.com/prod/1559293/cec01b72-ba63-11f0-b738-0
 a58a9feac02/3083016/11d4ecaa-27b3-11f1-ba31-0a58a9feac02/file/2026-02-17 T
 RW Agenda.pdf
END:VEVENT
END:VCALENDAR
