BEGIN:VCALENDAR
VERSION:2.0
PRODID:SchoolNow
CALSCALE:GREGORIAN
BEGIN:VEVENT
UID:754c7f7a-c58c-11f0-bb09-025da0cf94e5
DTSTAMP:20260324T185909Z
SUMMARY:CDD Board Meeting - Mar. 2026
LOCATION:the SpringHill Suites by Marriott Tampa Suncoast Parkway located a
 t 16615 Crosspointe Run\, Land O'Lakes\, FL 34648
URL;VALUE=URI:https://www.tworiverswestcdd.com/calendar/8804350/cdd-board-m
 eeting-mar-2026
DTSTART:20260317T150000Z
DTEND:20260317T160000Z
ATTACH;FILENAME=2026-03-17 TRW Agenda.pdf;FMTTYPE=application/pdf:https://c
 ampussuite-storage.s3.amazonaws.com/prod/1559293/cec01b72-ba63-11f0-b738-0
 a58a9feac02/3083017/230e6582-27b3-11f1-b5e8-0affd3f4938f/file/2026-03-17 T
 RW Agenda.pdf
END:VEVENT
END:VCALENDAR
