BEGIN:VCALENDAR
VERSION:2.0
PRODID:SchoolNow
CALSCALE:GREGORIAN
BEGIN:VEVENT
UID:7f702718-c58c-11f0-8ae5-0a58a9feac02
DTSTAMP:20251119T211247Z
SUMMARY:CDD Board Meeting - Apr. 2026
LOCATION:the SpringHill Suites by Marriott Tampa Suncoast Parkway located a
 t 16615 Crosspointe Run\, Land O'Lakes\, FL 34648
URL;VALUE=URI:https://www.tworiverswestcdd.com/calendar/8804351/cdd-board-m
 eeting-apr-2026
DTSTART:20260421T150000Z
DTEND:20260421T160000Z
END:VEVENT
END:VCALENDAR
