BEGIN:VCALENDAR
VERSION:2.0
PRODID:SchoolNow
CALSCALE:GREGORIAN
BEGIN:VEVENT
UID:89723e72-c58c-11f0-85a4-0e87b21e145b
DTSTAMP:20251119T211304Z
SUMMARY:CDD Board Meeting - May 2026
LOCATION:the SpringHill Suites by Marriott Tampa Suncoast Parkway located a
 t 16615 Crosspointe Run\, Land O'Lakes\, FL 34648
URL;VALUE=URI:https://www.tworiverswestcdd.com/calendar/8804352/cdd-board-m
 eeting-may-2026
DTSTART:20260519T150000Z
DTEND:20260519T160000Z
END:VEVENT
END:VCALENDAR
