BEGIN:VCALENDAR
VERSION:2.0
PRODID:SchoolNow
CALSCALE:GREGORIAN
BEGIN:VEVENT
UID:93b8d2ec-c58c-11f0-aaf2-025da0cf94e5
DTSTAMP:20251119T211321Z
SUMMARY:CDD Board Meeting - Jun. 2026
LOCATION:the SpringHill Suites by Marriott Tampa Suncoast Parkway located a
 t 16615 Crosspointe Run\, Land O'Lakes\, FL 34648
URL;VALUE=URI:https://www.tworiverswestcdd.com/calendar/8804353/cdd-board-m
 eeting-jun-2026
DTSTART:20260616T150000Z
DTEND:20260616T160000Z
END:VEVENT
END:VCALENDAR
