BEGIN:VCALENDAR
VERSION:2.0
PRODID:SchoolNow
CALSCALE:GREGORIAN
BEGIN:VEVENT
UID:9d577772-c58c-11f0-8387-0a58a9feac02
DTSTAMP:20251119T211337Z
SUMMARY:CDD Board Meeting - Jul. 2026
LOCATION:the SpringHill Suites by Marriott Tampa Suncoast Parkway located a
 t 16615 Crosspointe Run\, Land O'Lakes\, FL 34648
URL;VALUE=URI:https://www.tworiverswestcdd.com/calendar/8804354/cdd-board-m
 eeting-jul-2026
DTSTART:20260721T150000Z
DTEND:20260721T160000Z
END:VEVENT
END:VCALENDAR
