BEGIN:VCALENDAR
VERSION:2.0
PRODID:SchoolNow
CALSCALE:GREGORIAN
BEGIN:VEVENT
UID:a6363130-c58c-11f0-b5cb-02343ccddbd9
DTSTAMP:20251119T211352Z
SUMMARY:CDD Board Meeting - Aug. 2026
LOCATION:the SpringHill Suites by Marriott Tampa Suncoast Parkway located a
 t 16615 Crosspointe Run\, Land O'Lakes\, FL 34648
URL;VALUE=URI:https://www.tworiverswestcdd.com/calendar/8804355/cdd-board-m
 eeting-aug-2026
DTSTART:20260818T150000Z
DTEND:20260818T160000Z
END:VEVENT
END:VCALENDAR
