BEGIN:VCALENDAR
VERSION:2.0
PRODID:SchoolNow
CALSCALE:GREGORIAN
BEGIN:VEVENT
UID:b36f878e-c58c-11f0-bb63-0a58a9feac02
DTSTAMP:20251119T211414Z
SUMMARY:CDD Board Meeting - Sept. 2026
LOCATION:the SpringHill Suites by Marriott Tampa Suncoast Parkway located a
 t 16615 Crosspointe Run\, Land O'Lakes\, FL 34648
URL;VALUE=URI:https://www.tworiverswestcdd.com/calendar/8804356/cdd-board-m
 eeting-sept-2026
DTSTART:20260915T150000Z
DTEND:20260915T160000Z
END:VEVENT
END:VCALENDAR
