BEGIN:VCALENDAR
VERSION:2.0
PRODID:SchoolNow
CALSCALE:GREGORIAN
BEGIN:VEVENT
UID:e652c8e8-2c46-11f1-91d2-0afff963552b
DTSTAMP:20260330T144404Z
SUMMARY:CDD Board Meeting - Aug. 2025
LOCATION:the SpringHill Suites by Marriott Tampa Suncoast Parkway located a
 t 16615 Crosspointe Run\, Land O'Lakes\, FL 34648
URL;VALUE=URI:https://www.tworiverswestcdd.com/calendar/8957835/cdd-board-m
 eeting-aug-2025
DTSTART:20250819T150000Z
DTEND:20250819T160000Z
ATTACH;FILENAME=2025-08-19 TRW Agenda.pdf;FMTTYPE=application/pdf:https://c
 ampussuite-storage.s3.amazonaws.com/prod/1559293/cec01b72-ba63-11f0-b738-0
 a58a9feac02/3036976/9fa42ea8-bfec-11f0-a5d1-0e20a12667a5/file/2025-08-19 T
 RW Agenda.pdf
END:VEVENT
END:VCALENDAR
