BEGIN:VCALENDAR
VERSION:2.0
PRODID:SchoolNow
CALSCALE:GREGORIAN
BEGIN:VEVENT
UID:fb890344-2c46-11f1-a28a-0afff963552b
DTSTAMP:20260330T144440Z
SUMMARY:CDD Board Meeting - Jul. 2025
LOCATION:the SpringHill Suites by Marriott Tampa Suncoast Parkway located a
 t 16615 Crosspointe Run\, Land O'Lakes\, FL 34648
URL;VALUE=URI:https://www.tworiverswestcdd.com/calendar/8957836/cdd-board-m
 eeting-jul-2025
DTSTART:20250715T150000Z
DTEND:20250715T160000Z
ATTACH;FILENAME=2025-07-15 TRW Agenda.pdf;FMTTYPE=application/pdf:https://c
 ampussuite-storage.s3.amazonaws.com/prod/1559293/cec01b72-ba63-11f0-b738-0
 a58a9feac02/3036975/9fa42db8-bfec-11f0-9487-0e20a12667a5/file/2025-07-15 T
 RW Agenda.pdf
END:VEVENT
END:VCALENDAR
