BEGIN:VCALENDAR
VERSION:2.0
PRODID:SchoolNow
CALSCALE:GREGORIAN
BEGIN:VEVENT
UID:23245cfa-2c47-11f1-9c5d-02c71ee0afd3
DTSTAMP:20260330T144546Z
SUMMARY:CDD Board Meeting - May 2025
LOCATION:the SpringHill Suites by Marriott Tampa Suncoast Parkway located a
 t 16615 Crosspointe Run\, Land O'Lakes\, FL 34648
URL;VALUE=URI:https://www.tworiverswestcdd.com/calendar/8957838/cdd-board-m
 eeting-may-2025
DTSTART:20250520T150000Z
DTEND:20250520T160000Z
ATTACH;FILENAME=2025-05-20 TRW Agenda.pdf;FMTTYPE=application/pdf:https://c
 ampussuite-storage.s3.amazonaws.com/prod/1559293/cec01b72-ba63-11f0-b738-0
 a58a9feac02/3036973/9fa42bf6-bfec-11f0-a1dc-0e20a12667a5/file/2025-05-20 T
 RW Agenda.pdf
END:VEVENT
END:VCALENDAR
