BEGIN:VCALENDAR
VERSION:2.0
PRODID:SchoolNow
CALSCALE:GREGORIAN
BEGIN:VEVENT
UID:3c1e2b6e-2c47-11f1-8b38-0a58a9feac02
DTSTAMP:20260330T144628Z
SUMMARY:CDD Board Meeting - Apr. 2025
LOCATION:the SpringHill Suites by Marriott Tampa Suncoast Parkway located a
 t 16615 Crosspointe Run\, Land O'Lakes\, FL 34648
URL;VALUE=URI:https://www.tworiverswestcdd.com/calendar/8957839/cdd-board-m
 eeting-apr-2025
DTSTART:20250415T150000Z
DTEND:20250415T160000Z
ATTACH;FILENAME=2025-04-15 TRW Agenda.pdf;FMTTYPE=application/pdf:https://c
 ampussuite-storage.s3.amazonaws.com/prod/1559293/cec01b72-ba63-11f0-b738-0
 a58a9feac02/3036972/9fa42b10-bfec-11f0-b6e9-0e20a12667a5/file/2025-04-15 T
 RW Agenda.pdf
END:VEVENT
END:VCALENDAR
